BEGIN:VCALENDAR
VERSION:2.0
PRODID:-//NADI Kg Tanjung - ECPv6.15.20//NONSGML v1.0//EN
CALSCALE:GREGORIAN
METHOD:PUBLISH
X-WR-CALNAME:NADI Kg Tanjung
X-ORIGINAL-URL:https://kgtanjung.nadi.my
X-WR-CALDESC:Events for NADI Kg Tanjung
REFRESH-INTERVAL;VALUE=DURATION:PT1H
X-Robots-Tag:noindex
X-PUBLISHED-TTL:PT1H
BEGIN:VTIMEZONE
TZID:Asia/Kuala_Lumpur
BEGIN:STANDARD
TZOFFSETFROM:+0800
TZOFFSETTO:+0800
TZNAME:+08
DTSTART:20250101T000000
END:STANDARD
END:VTIMEZONE
BEGIN:VEVENT
DTSTART;TZID=Asia/Kuala_Lumpur:20260223T153000
DTEND;TZID=Asia/Kuala_Lumpur:20260227T170000
DTSTAMP:20260426T111622
CREATED:20260221T030726Z
LAST-MODIFIED:20260221T030726Z
UID:6547-1771860600-1772211600@kgtanjung.nadi.my
SUMMARY:OPEN TUITION DILEA
DESCRIPTION:
URL:https://kgtanjung.nadi.my/event/open-tuition-dilea-3/
END:VEVENT
END:VCALENDAR