BEGIN:VCALENDAR
VERSION:2.0
PRODID:-//NADI Kg Tanjung - ECPv6.15.20//NONSGML v1.0//EN
CALSCALE:GREGORIAN
METHOD:PUBLISH
X-WR-CALNAME:NADI Kg Tanjung
X-ORIGINAL-URL:https://kgtanjung.nadi.my
X-WR-CALDESC:Events for NADI Kg Tanjung
REFRESH-INTERVAL;VALUE=DURATION:PT1H
X-Robots-Tag:noindex
X-PUBLISHED-TTL:PT1H
BEGIN:VTIMEZONE
TZID:Asia/Kuala_Lumpur
BEGIN:STANDARD
TZOFFSETFROM:+0800
TZOFFSETTO:+0800
TZNAME:+08
DTSTART:20250101T000000
END:STANDARD
END:VTIMEZONE
BEGIN:VEVENT
DTSTART;TZID=Asia/Kuala_Lumpur:20260413T140000
DTEND;TZID=Asia/Kuala_Lumpur:20260417T170000
DTSTAMP:20260426T120555
CREATED:20260409T031848Z
LAST-MODIFIED:20260409T031848Z
UID:6619-1776088800-1776445200@kgtanjung.nadi.my
SUMMARY:TUITION DILEA - OPEN TUITION
DESCRIPTION:
URL:https://kgtanjung.nadi.my/event/tuition-dilea-open-tuition/
END:VEVENT
BEGIN:VEVENT
DTSTART;TZID=Asia/Kuala_Lumpur:20260415T080000
DTEND;TZID=Asia/Kuala_Lumpur:20260415T170000
DTSTAMP:20260426T120555
CREATED:20260415T015131Z
LAST-MODIFIED:20260415T015131Z
UID:6654-1776240000-1776272400@kgtanjung.nadi.my
SUMMARY:WEBINAR E KELAS
DESCRIPTION:
URL:https://kgtanjung.nadi.my/event/webinar-e-kelas/
END:VEVENT
END:VCALENDAR