BEGIN:VCALENDAR
VERSION:2.0
PRODID:-//NADI Kg Tanjung - ECPv6.15.20//NONSGML v1.0//EN
CALSCALE:GREGORIAN
METHOD:PUBLISH
X-WR-CALNAME:NADI Kg Tanjung
X-ORIGINAL-URL:https://kgtanjung.nadi.my
X-WR-CALDESC:Events for NADI Kg Tanjung
REFRESH-INTERVAL;VALUE=DURATION:PT1H
X-Robots-Tag:noindex
X-PUBLISHED-TTL:PT1H
BEGIN:VTIMEZONE
TZID:Asia/Kuala_Lumpur
BEGIN:STANDARD
TZOFFSETFROM:+0800
TZOFFSETTO:+0800
TZNAME:+08
DTSTART:20250101T000000
END:STANDARD
END:VTIMEZONE
BEGIN:VEVENT
DTSTART;TZID=Asia/Kuala_Lumpur:20260427T103000
DTEND;TZID=Asia/Kuala_Lumpur:20260427T113000
DTSTAMP:20260425T060427
CREATED:20260423T034332Z
LAST-MODIFIED:20260423T034332Z
UID:6669-1777285800-1777289400@kgtanjung.nadi.my
SUMMARY:MAHIR PERTANIAN
DESCRIPTION:
URL:https://kgtanjung.nadi.my/event/mahir-pertanian-10/
END:VEVENT
BEGIN:VEVENT
DTSTART;TZID=Asia/Kuala_Lumpur:20260427T103000
DTEND;TZID=Asia/Kuala_Lumpur:20260427T123000
DTSTAMP:20260425T060427
CREATED:20260423T034306Z
LAST-MODIFIED:20260423T034306Z
UID:6667-1777285800-1777293000@kgtanjung.nadi.my
SUMMARY:MAHIR JAHIT
DESCRIPTION:
URL:https://kgtanjung.nadi.my/event/mahir-jahit-16/
END:VEVENT
BEGIN:VEVENT
DTSTART;TZID=Asia/Kuala_Lumpur:20260428T103000
DTEND;TZID=Asia/Kuala_Lumpur:20260428T110000
DTSTAMP:20260425T060427
CREATED:20260423T034408Z
LAST-MODIFIED:20260423T034408Z
UID:6671-1777372200-1777374000@kgtanjung.nadi.my
SUMMARY:MAHIR GAJET
DESCRIPTION:
URL:https://kgtanjung.nadi.my/event/mahir-gajet-3/
END:VEVENT
END:VCALENDAR